BEGIN:VCALENDAR
VERSION:2.0
PRODID:-// - ECPv6.10.0//NONSGML v1.0//EN
CALSCALE:GREGORIAN
METHOD:PUBLISH
X-ORIGINAL-URL:https://www.kirkistowntrackdays.co.uk
X-WR-CALDESC:Events for 
REFRESH-INTERVAL;VALUE=DURATION:PT1H
X-Robots-Tag:noindex
X-PUBLISHED-TTL:PT1H
BEGIN:VTIMEZONE
TZID:UTC
BEGIN:STANDARD
TZOFFSETFROM:+0000
TZOFFSETTO:+0000
TZNAME:UTC
DTSTART:20260101T000000
END:STANDARD
END:VTIMEZONE
BEGIN:VEVENT
DTSTART;TZID=UTC:20260808T090000
DTEND;TZID=UTC:20260808T163000
DTSTAMP:20260424T101755
CREATED:20240207T195035Z
LAST-MODIFIED:20251219T083354Z
UID:922-1786179600-1786206600@www.kirkistowntrackdays.co.uk
SUMMARY:SATURDAY TRACK DAY
DESCRIPTION:EARLY START – BIKES ON TRACK 1030!
URL:https://www.kirkistowntrackdays.co.uk/event/saturday-track-day/
ATTACH;FMTTYPE=image/jpeg:https://www.kirkistowntrackdays.co.uk/wp-content/uploads/2024/02/DSC_8454-e1707335408400.jpg
END:VEVENT
END:VCALENDAR