BEGIN:VCALENDAR
VERSION:2.0
PRODID:-// - ECPv6.10.0//NONSGML v1.0//EN
CALSCALE:GREGORIAN
METHOD:PUBLISH
X-ORIGINAL-URL:https://www.kirkistowntrackdays.co.uk
X-WR-CALDESC:Events for 
REFRESH-INTERVAL;VALUE=DURATION:PT1H
X-Robots-Tag:noindex
X-PUBLISHED-TTL:PT1H
BEGIN:VTIMEZONE
TZID:UTC
BEGIN:STANDARD
TZOFFSETFROM:+0000
TZOFFSETTO:+0000
TZNAME:UTC
DTSTART:20260101T000000
END:STANDARD
END:VTIMEZONE
BEGIN:VEVENT
DTSTART;TZID=UTC:20260531T100000
DTEND;TZID=UTC:20260531T173000
DTSTAMP:20260422T105600
CREATED:20240207T193153Z
LAST-MODIFIED:20251219T083116Z
UID:911-1780221600-1780248600@www.kirkistowntrackdays.co.uk
SUMMARY:TRACK DAY
DESCRIPTION:
URL:https://www.kirkistowntrackdays.co.uk/event/track-day-6/
ATTACH;FMTTYPE=image/jpeg:https://www.kirkistowntrackdays.co.uk/wp-content/uploads/2024/02/DSC_8727-e1707334297409.jpg
END:VEVENT
END:VCALENDAR